BEGIN:VCALENDAR
VERSION:2.0
PRODID:-//eventon.com NONSGML v1.0//EN
CALSCALE:GREGORIAN
METHOD:PUBLISH
BEGIN:VEVENT
UID:69e76d1cc155d
DTSTAMP:20260421T122708Z
DTSTART:20260910T091500Z
DTEND:20260910T113000Z
LOCATION:
SUMMARY:Lähitori Iso-Heikki: Oikeus hyvään kuuloon kuuluu kaikille
DESCRIPTION:klo 12.15-12.55 Iso-Heikin tai lähialueen seniori\,  tule liik
 kumaan yhdessä! Maksuton Liiku lähellä -ryhmä kokoontuu torstaisin seni
 oritalon kuntosalilla. Luvassa monipuolista liikuntaa ryhmäläisten toivei
 den mukaan\,  lihasvoima- ja tasapainoharjoittelua tai ulkoilua. klo 13 Oik
 eus hyvään kuuloon kuuluu kaikille Joonas Nyman Kuulotekniikka Oy:stä ke
 rtoo kuulonalenemasta ja kuulon kuntoutuspalveluista. Mistä kuulonalenema 
 johtuu ja mitä apuvälineitä[..]\nhttps://tukenasi.fi/events/lahitori-iso
 -heikki-oikeus-hyvaan-kuuloon-kuuluu-kaikille/
URL:https://tukenasi.fi/events/lahitori-iso-heikki-oikeus-hyvaan-kuuloon-kuuluu-kaikille/
END:VEVENT
END:VCALENDAR