BEGIN:VCALENDAR
VERSION:2.0
PRODID:-//eventon.com NONSGML v1.0//EN
CALSCALE:GREGORIAN
METHOD:PUBLISH
BEGIN:VEVENT
UID:69e8d74c6ad83
DTSTAMP:20260422T141228Z
DTSTART:20260429T113000Z
DTEND:20260429T123000Z
LOCATION:
SUMMARY:Tule kuulemaan Senioripysäkin Voimavarapisteen tarjoamasta tuesta
DESCRIPTION:Oletko kokenut elämänmuutoksen ja kaipaat yksilömuotoista tu
 kea? Tule rohkeasti kuulemaan maksuttomasta yksilömuotoisesta tuestamme! 
  Aika: keskiviikko 29.4. klo 14-15.30 Paikka: Tukenasi ry:n toimipiste\,  K
 auppiaskatu 11 C 27\,  5. kerros Lisätiedot: p. 040 528 9103\,  Katja Tuju
 nen\nhttps://tukenasi.fi/events/tule-kuulemaan-senioripysakin-voimavarapist
 een-tarjoamasta-tuesta/
URL:https://tukenasi.fi/events/tule-kuulemaan-senioripysakin-voimavarapisteen-tarjoamasta-tuesta/
END:VEVENT
END:VCALENDAR