BEGIN:VCALENDAR
VERSION:2.0
PRODID:-//eventon.com NONSGML v1.0//EN
CALSCALE:GREGORIAN
METHOD:PUBLISH
BEGIN:VEVENT
UID:69e75194b5aae
DTSTAMP:20260421T102940Z
DTSTART:20240524T000000Z
DTEND:20240524T013000Z
LOCATION:
SUMMARY:Vertaistuellinen keskusteluiltapäivä 60+vuotiaille: Lapsettomuus
DESCRIPTION:Senioripysäkki - Voimavarapiste yli 60-vuotiaille järjestää
  kevätkauden 2024 aikana vertaistuellisia keskusteluiltapäiviä eri teemo
 in. Tilaisuuksissa on mahdollisuus pienryhmässä jakaa omia ajatuksia ja k
 okemuksia sekä kuulla ja kohdata toisia samassa elämäntilanteessa olevia
 . Torstaina 23.5. klo 13–14.30 tilaisuuden teemana on Lapsettomuus Lisät
 ietoa ja ennakkoilmoittautumiset: p. 040 5866 055\,  Marika Siika Paikka: T
 ukenasi ry\, [..]\nhttps://tukenasi.fi/events/vertaistuellinen-keskusteluil
 tapaiva-60vuotiaille-lapsettomuus/
URL:https://tukenasi.fi/events/vertaistuellinen-keskusteluiltapaiva-60vuotiaille-lapsettomuus/
END:VEVENT
END:VCALENDAR